BEGIN:VCALENDAR
VERSION:2.0
PRODID:icalendar-ruby
CALSCALE:GREGORIAN
METHOD:PUBLISH
BEGIN:VEVENT
DTSTAMP:20260423T223911Z
UID:6-479512@anchorway.com
DTSTART:20261004T150000Z
DTEND:20261004T160000Z
CLASS:PUBLIC
CREATED:20260423T151833
DESCRIPTION:1st Service
LAST-MODIFIED:20260423T151833
LOCATION:
SUMMARY:1st Service
URL;VALUE=URI:https://anchorway.com/events/1st-service/2026-10-04
END:VEVENT
END:VCALENDAR
