BEGIN:VCALENDAR
VERSION:2.0
PRODID:icalendar-ruby
CALSCALE:GREGORIAN
METHOD:PUBLISH
BEGIN:VEVENT
DTSTAMP:20260424T001357Z
UID:6-479886@anchorway.com
DTSTART:20261011T150000Z
DTEND:20261011T160000Z
CLASS:PUBLIC
CREATED:20260423T181147
DESCRIPTION:1st Service
LAST-MODIFIED:20260423T181147
LOCATION:
SUMMARY:1st Service
URL;VALUE=URI:https://anchorway.com/events/1st-service/2026-10-11
END:VEVENT
END:VCALENDAR
