BEGIN:VCALENDAR
VERSION:2.0
PRODID:icalendar-ruby
CALSCALE:GREGORIAN
METHOD:PUBLISH
BEGIN:VEVENT
DTSTAMP:20260424T031259Z
UID:6-480261@anchorway.com
DTSTART:20261025T150000Z
DTEND:20261025T160000Z
CLASS:PUBLIC
CREATED:20260423T210619
DESCRIPTION:1st Service
LAST-MODIFIED:20260423T210619
LOCATION:
SUMMARY:1st Service
URL;VALUE=URI:https://anchorway.com/events/1st-service/2026-10-25
END:VEVENT
END:VCALENDAR
