BEGIN:VCALENDAR
VERSION:2.0
PRODID:icalendar-ruby
CALSCALE:GREGORIAN
METHOD:PUBLISH
BEGIN:VEVENT
DTSTAMP:20260422T114007Z
UID:19-463968@anchorway.com
DTSTART:20260628T160000Z
DTEND:20260628T183000Z
CLASS:PUBLIC
CREATED:20260416T153924
DESCRIPTION:
LAST-MODIFIED:20260416T153924
LOCATION:Anchor Way Church
SUMMARY:Outdoor Service
URL;VALUE=URI:https://anchorway.com/events/outdoor-service/2026-06-28
ATTACH;FILENAME=InBlue-And-White-Classic-Faith-Church-Sermon-Presentation-1
 500-x-784-px-Presentation-1.png;FMTTYPE=image/png:https://dq5pwpg1q8ru0.cl
 oudfront.net/2026/04/16/21/39/24/e1bf0410-d04f-4bbd-b56a-8a5944710eef/InBl
 ue-And-White-Classic-Faith-Church-Sermon-Presentation-1500-x-784-px-Presen
 tation-1.png
END:VEVENT
END:VCALENDAR
